BEGIN:VCALENDAR
VERSION:2.0
PRODID:-//Blockchain Centre - ECPv4.7.4//NONSGML v1.0//EN
CALSCALE:GREGORIAN
METHOD:PUBLISH
X-WR-CALNAME:Blockchain Centre
X-ORIGINAL-URL:https://blockchaincentre.com.au
X-WR-CALDESC:Events for Blockchain Centre
BEGIN:VEVENT
DTSTART;TZID=Australia/Melbourne:20190204T180000
DTEND;TZID=Australia/Melbourne:20190204T190000
DTSTAMP:20190226T084800
CREATED:20180916T180418Z
LAST-MODIFIED:20180916T180418Z
UID:4368-1549303200-1549306800@blockchaincentre.com.au
SUMMARY:Crypto Mondays Meetup: Bitcoin 101
DESCRIPTION:Welcome to the Blockchain Centre’s Crypto Monday series featuring Bitcoin and Sponsored by Huobi Australia. \nIf you’ve heard about Bitcoin but have never bought bitcoin or Crypto currency\, then this workshop is for you! \nYou’ll learn the basic essentials everyone should know before using Bitcoin in a safe and secure manner. \nThis is a true introduction for bitcoin beginners and a place where you can ask all the beginners questions. We like to keep things at a fairly high level\, no technical background or knowledge necessary. \nYou will learn how create an account for an exchange\, get through security (know your customer) and buy your first cryptocurrency. \nCome on down to the Blockchain Centre for an hour to receive a broad overview of Bitcoin and stick around for a quick drink\, this workshop is proudly sponsored by Huobi Australia and Brave New Coin. \nAbout Huobi AustraliaHuobi Group\, world-leading financial hub of digital assets\, is now launching its digital asset exchange in Australia. Huobi Group has partnered with the local blockchain and crypto industry leader Blockchain Global and is dedicated to offering best-in-class digital asset services to Australian investors.https://www.huobi.com.au \nAbout Brave new coinBrave New Coin (BNC) is a Blockchain and Digital Currency Market Data company. We publish technical analysis and research\, used by key decision makers. Our superior Data-Engine taps into every cryptocurrency exchange on the planet\, tracking all tokens in real-time to produce API’s and blockchain data tools for Developers\, Traders & Enterprise.https://bravenewcoin.com. \nIf you have any questions before the meetup\, let us know. \nEveryone is welcome at the Blockchain Centre. \nOther events in the Crypto Monday series include: \nMonero 101https://www.meetup.com/blockchaincentre/events/fvxxfpyxdbjc/ \nNEM 101https://www.meetup.com/blockchaincentre/events/jqxxfpyxdbzb/ \nEthereum 101https://www.meetup.com/blockchaincentre/events/vtgvfpyxdbqb/ \nTo learn about Investing in Crypto Currency workshop feel free to sign up to our workshop ( the cost is $100 plus booking fee and pizza\, beer or wine is included).https://www.eventbrite.com.au/o/the-blockchain-centre-14851725402 \nOnce you have attended some of our Beginners sessions feel free to attend Technical Talk n Trade on Wednesdays at 6pm:https://www.meetup.com/blockchaincentre/events/246262078/ \n
URL:https://blockchaincentre.com.au/event/crypto-mondays-meetup-bitcoin-101-5/
LOCATION:Blockchain Centre\, 85 City Road\, Southbank\, AU
END:VEVENT
BEGIN:VEVENT
DTSTART;TZID=Australia/Melbourne:20190204T180000
DTEND;TZID=Australia/Melbourne:20190204T190000
DTSTAMP:20190226T084800
CREATED:20181003T010712Z
LAST-MODIFIED:20181003T010712Z
UID:4559-1549303200-1549306800@blockchaincentre.com.au
SUMMARY:Crypto Mondays Meetup: Bitcoin 101
DESCRIPTION:Welcome to the Blockchain Centre’s Crypto Monday series featuring Bitcoin and Sponsored by Huobi Australia. \nIf you’ve heard about Bitcoin but have never bought bitcoin or Crypto currency\, then this workshop is for you! \nYou’ll learn the basic essentials everyone should know before using Bitcoin in a safe and secure manner. \nThis is a true introduction for bitcoin beginners and a place where you can ask all the beginners questions. We like to keep things at a fairly high level\, no technical background or knowledge necessary. \nYou will learn how create an account for an exchange\, get through security (know your customer) and buy your first cryptocurrency. \nCome on down to the Blockchain Centre for an hour to receive a broad overview of Bitcoin and stick around for a quick drink\, this workshop is proudly sponsored by Huobi Australia and Brave New Coin. \nAbout Huobi AustraliaHuobi Group\, world-leading financial hub of digital assets\, is now launching its digital asset exchange in Australia. Huobi Group has partnered with the local blockchain and crypto industry leader Blockchain Global and is dedicated to offering best-in-class digital asset services to Australian investors.https://www.huobi.com.au \nAbout Brave new coinBrave New Coin (BNC) is a Blockchain and Digital Currency Market Data company. We publish technical analysis and research\, used by key decision makers. Our superior Data-Engine taps into every cryptocurrency exchange on the planet\, tracking all tokens in real-time to produce API’s and blockchain data tools for Developers\, Traders & Enterprise.https://bravenewcoin.com. \nIf you have any questions before the meetup\, let us know. \nEveryone is welcome at the Blockchain Centre. \nOther events in the Crypto Monday series include: \nMonero 101https://www.meetup.com/blockchaincentre/events/fvxxfpyxdbjc/ \nNEM 101https://www.meetup.com/blockchaincentre/events/jqxxfpyxdbzb/ \nEthereum 101https://www.meetup.com/blockchaincentre/events/vtgvfpyxdbqb/ \nTo learn about Investing in Crypto Currency workshop feel free to sign up to our workshop ( the cost is $100 plus booking fee and pizza\, beer or wine is included).https://www.eventbrite.com.au/o/the-blockchain-centre-14851725402 \nOnce you have attended some of our Beginners sessions feel free to attend Technical Talk n Trade on Wednesdays at 6pm:https://www.meetup.com/blockchaincentre/events/246262078/ \n
URL:https://blockchaincentre.com.au/event/crypto-mondays-meetup-bitcoin-101-21/
LOCATION:Blockchain Centre Melbourne\, Ground Floor\, 710 Collins Street\, Docklands\, AU
END:VEVENT
BEGIN:VEVENT
DTSTART;TZID=Australia/Melbourne:20190204T193000
DTEND;TZID=Australia/Melbourne:20190204T203000
DTSTAMP:20190226T084800
CREATED:20180916T180419Z
LAST-MODIFIED:20180916T180419Z
UID:4369-1549308600-1549312200@blockchaincentre.com.au
SUMMARY:Currency Design Workshop Series
DESCRIPTION:This month\, we’ll be discussing different ways of encouraging moral and ethical behaviours\, as well as personal and cultural growth through currency and policy design. \nThere is an introduction to some of the ideas we are expecting to discuss here: http://thenewmoneyinstitute.com/index.php/2017/11/26/supporting-cultural-evolution-through-currency-design/ \nWe look forward to seeing you there\, and discussing these\, and other ideas! \n
URL:https://blockchaincentre.com.au/event/currency-design-workshop-series-5/
LOCATION:Blockchain Centre\, 85 City Road\, Southbank\, AU
END:VEVENT
END:VCALENDAR