BEGIN:VCALENDAR
VERSION:2.0
PRODID:-//Blockchain Centre - ECPv4.7.4//NONSGML v1.0//EN
CALSCALE:GREGORIAN
METHOD:PUBLISH
X-WR-CALNAME:Blockchain Centre
X-ORIGINAL-URL:https://blockchaincentre.com.au
X-WR-CALDESC:Events for Blockchain Centre
BEGIN:VEVENT
DTSTART;TZID=Australia/Melbourne:20190211T180000
DTEND;TZID=Australia/Melbourne:20190211T190000
DTSTAMP:20190226T085617
CREATED:20180916T180421Z
LAST-MODIFIED:20180916T180421Z
UID:4371-1549908000-1549911600@blockchaincentre.com.au
SUMMARY:Crypto Mondays: Ethereum Introduction
DESCRIPTION:Welcome to the Blockchain Centre’s Crypto Monday series featuring Ethereum. \nCome on down to the Blockchain Centre for an hour to receive a broad overview of Ethereum. \nEthereum has been cracking onwards for a few years now\, and recently has been making headlines with things like the Enterprise Ethereum Alliance\, and the recent 4x price surge of it’s base token\, Ether. If you feel like you’re not quite sure why any of this is happening or what it all means\, this is the session for you. \nThe session will be one hour. The provisional format is: \n• 20 minute general guide to what Ethereum is \n• 10 minute Q&A \n• 20 minute demonstration about what Ethereum can be used for \n• 10 minute Q&A \nThe demo isn’t going to be interactive\, so don’t worry about bringing laptops. \nWe like to keep things at a fairly high level\, so we won’t be delving into many crypto-concepts. No technical background or knowledge necessary. \nIf you have any questions before the meetup\, let us know. \nOther events in the series include: \n– Bitcoin 101 \n– NEM 101 \n– Monero 101 \nThese can be found here:https://www.meetup.com/en-AU/blockchaincentre/ \nTo learn about our workshops\, feel free to purchase tickets on Eventbrite: https://bit.ly/2sPRQBS (the cost is $100 plus booking fee with a light dinner included). \nOnce you have attended some of our beginner sessions feel free to attend our weekly Talk & Trade on Wednesdays at 6pm\, this can be found herehttps://www.meetup.com/en-AU/blockchaincentre \n
URL:https://blockchaincentre.com.au/event/crypto-mondays-ethereum-introduction-5/
LOCATION:Blockchain Centre\, 85 City Road\, Southbank\, AU
END:VEVENT
BEGIN:VEVENT
DTSTART;TZID=Australia/Melbourne:20190211T193000
DTEND;TZID=Australia/Melbourne:20190211T203000
DTSTAMP:20190226T085617
CREATED:20180916T180422Z
LAST-MODIFIED:20180916T180422Z
UID:4372-1549913400-1549917000@blockchaincentre.com.au
SUMMARY:Introduction to Cryptocurrency Mining
DESCRIPTION:Have you ever wondered about how the mining evolution started for Crypto Currency? \nThe Blockchain Centre is proud to host an introduction to mining for Crypto Currency. \nThis course focuses on the history and evolution of chip hardware (speed and transistor count)\, including: \n* 70 year history of CPU is covered\, including Intel 286\, 386\, 486\, Pentiums\, iCore \n* history of GPU is covered (ISA\, PCI\, AGP\, PCI-x) \n* The difference between CPU and GPU and ASIC mining; all mining brands discussed \n* PoW vs. PoS \n* Mining Pools \nFeel free to ask Bruno all the questions you ever wanted to ask about Mining during the Q&A. \n
URL:https://blockchaincentre.com.au/event/introduction-to-cryptocurrency-mining-5/
LOCATION:Blockchain Centre\, 85 City Road Southbank\, Melbourne\, AU
END:VEVENT
END:VCALENDAR